BEGIN:VCALENDAR
VERSION:2.0
PRODID:-//Plone.org//NONSGML plone.app.event//EN
X-WR-TIMEZONE:Europe/Berlin
BEGIN:VEVENT
SUMMARY:Vortrag
DTSTART;TZID=Europe/Berlin;VALUE=DATE-TIME:20190509T200000
DTEND;TZID=Europe/Berlin;VALUE=DATE-TIME:20190509T213000
DTSTAMP;VALUE=DATE-TIME:20260424T123404Z
UID:3e1e0d1ddb0f45bf8f35233ba8ea2a7f
CREATED;VALUE=DATE-TIME:20190321T095002Z
DESCRIPTION:Leonardo Da Vinci
LAST-MODIFIED;VALUE=DATE-TIME:20190321T095452Z
LOCATION:Aula
URL:https://www.gs-steinheim.de/vortrag
END:VEVENT
BEGIN:VTIMEZONE
TZID:Europe/Berlin
X-LIC-LOCATION:Europe/Berlin
BEGIN:DAYLIGHT
DTSTART;VALUE=DATE-TIME:20190331T030000
TZNAME:CEST
TZOFFSETFROM:+0100
TZOFFSETTO:+0200
END:DAYLIGHT
END:VTIMEZONE
END:VCALENDAR
