BEGIN:VCALENDAR
VERSION:2.0
PRODID:-//Plone.org//NONSGML plone.app.event//EN
X-WR-TIMEZONE:Europe/Berlin
BEGIN:VEVENT
SUMMARY:Unterrichtsende 11.20 Uhr
DTSTART;TZID=Europe/Berlin;VALUE=DATE-TIME:20190507T112000
DTEND;TZID=Europe/Berlin;VALUE=DATE-TIME:20190507T112000
DTSTAMP;VALUE=DATE-TIME:20260424T140751Z
UID:69ff3c3703a14c40981de66c04014feb
CREATED;VALUE=DATE-TIME:20190321T094800Z
DESCRIPTION:für alle Klassen
LAST-MODIFIED;VALUE=DATE-TIME:20190911T082643Z
URL:https://www.gs-steinheim.de/termine/unterrichtsende
END:VEVENT
BEGIN:VTIMEZONE
TZID:Europe/Berlin
X-LIC-LOCATION:Europe/Berlin
BEGIN:DAYLIGHT
DTSTART;VALUE=DATE-TIME:20190331T030000
TZNAME:CEST
TZOFFSETFROM:+0100
TZOFFSETTO:+0200
END:DAYLIGHT
END:VTIMEZONE
END:VCALENDAR
