BEGIN:VCALENDAR
VERSION:2.0
PRODID:-//Plone.org//NONSGML plone.app.event//EN
X-WR-TIMEZONE:Europe/Berlin
BEGIN:VEVENT
SUMMARY:test
DTSTART;TZID=Europe/Berlin;VALUE=DATE-TIME:20190205T140000
DTEND;TZID=Europe/Berlin;VALUE=DATE-TIME:20190205T150000
DTSTAMP;VALUE=DATE-TIME:20260424T123821Z
UID:403736db66124a4f9246e0089ec2eb05
CREATED;VALUE=DATE-TIME:20190206T132020Z
LAST-MODIFIED;VALUE=DATE-TIME:20190911T082643Z
URL:https://www.gs-steinheim.de/termine/test
END:VEVENT
BEGIN:VTIMEZONE
TZID:Europe/Berlin
X-LIC-LOCATION:Europe/Berlin
BEGIN:STANDARD
DTSTART;VALUE=DATE-TIME:20181028T020000
TZNAME:CET
TZOFFSETFROM:+0200
TZOFFSETTO:+0100
END:STANDARD
END:VTIMEZONE
END:VCALENDAR
