BEGIN:VCALENDAR
VERSION:2.0
PRODID:-//Plone.org//NONSGML plone.app.event//EN
X-WR-TIMEZONE:Europe/Berlin
BEGIN:VEVENT
SUMMARY:Schulfest
DTSTART;VALUE=DATE:20190222
DTEND;VALUE=DATE:20190223
DTSTAMP;VALUE=DATE-TIME:20260424T123713Z
UID:88c722188aab47298b6524945cf1965c
CREATED;VALUE=DATE-TIME:20180913T072022Z
DESCRIPTION:(Uhrzeit wird noch bekannt gegeben)
LAST-MODIFIED;VALUE=DATE-TIME:20190911T082642Z
LOCATION:Grundschule Memmingen-Steinheim
URL:https://www.gs-steinheim.de/termine/schulfest-1
END:VEVENT
END:VCALENDAR
