BEGIN:VCALENDAR
VERSION:2.0
PRODID:-//Plone.org//NONSGML plone.app.event//EN
X-WR-TIMEZONE:Europe/Berlin
BEGIN:VEVENT
SUMMARY:Schuleinschreibung für SJ 2019/2020
DTSTART;TZID=Europe/Berlin;VALUE=DATE-TIME:20190410T150000
DTEND;TZID=Europe/Berlin;VALUE=DATE-TIME:20190410T163000
DTSTAMP;VALUE=DATE-TIME:20260424T123156Z
UID:0bc33cf1f5c4409eb4c81a1047392a4e
CREATED;VALUE=DATE-TIME:20190206T132240Z
LAST-MODIFIED;VALUE=DATE-TIME:20190911T082643Z
URL:https://www.gs-steinheim.de/termine/schuleinschreibung-fuer-sj-2019-20
 12
END:VEVENT
BEGIN:VTIMEZONE
TZID:Europe/Berlin
X-LIC-LOCATION:Europe/Berlin
BEGIN:DAYLIGHT
DTSTART;VALUE=DATE-TIME:20190331T030000
TZNAME:CEST
TZOFFSETFROM:+0100
TZOFFSETTO:+0200
END:DAYLIGHT
END:VTIMEZONE
END:VCALENDAR
