BEGIN:VCALENDAR
VERSION:2.0
PRODID:-//Plone.org//NONSGML plone.app.event//EN
X-WR-TIMEZONE:Europe/Berlin
BEGIN:VEVENT
SUMMARY:Faschingsferien
DTSTART;VALUE=DATE:20190304
DTEND;VALUE=DATE:20190309
DTSTAMP;VALUE=DATE-TIME:20260424T123128Z
UID:cbbeb47e7aaf4c4eb5efc5a138f9728e
CREATED;VALUE=DATE-TIME:20180913T072337Z
LAST-MODIFIED;VALUE=DATE-TIME:20190911T082642Z
URL:https://www.gs-steinheim.de/termine/faschingsferien
END:VEVENT
END:VCALENDAR
