BEGIN:VCALENDAR
VERSION:2.0
PRODID:-//Plone.org//NONSGML plone.app.event//EN
X-WR-TIMEZONE:Europe/Berlin
BEGIN:VEVENT
SUMMARY:Elternsprechtag
DTSTART;TZID=Europe/Berlin;VALUE=DATE-TIME:20190502T170000
DTEND;TZID=Europe/Berlin;VALUE=DATE-TIME:20190502T190000
DTSTAMP;VALUE=DATE-TIME:20260424T123903Z
UID:5c9dc7525536431d8f5b420f256faf13
CREATED;VALUE=DATE-TIME:20190321T094517Z
DESCRIPTION:für alle 4. Klassen
LAST-MODIFIED;VALUE=DATE-TIME:20190321T100246Z
URL:https://www.gs-steinheim.de/elternsprechtag
END:VEVENT
BEGIN:VTIMEZONE
TZID:Europe/Berlin
X-LIC-LOCATION:Europe/Berlin
BEGIN:DAYLIGHT
DTSTART;VALUE=DATE-TIME:20190331T030000
TZNAME:CEST
TZOFFSETFROM:+0100
TZOFFSETTO:+0200
END:DAYLIGHT
END:VTIMEZONE
END:VCALENDAR
